BEGIN:VCALENDAR
VERSION:2.0
PRODID:-//Pro Agricultura - ECPv5.12.0//NONSGML v1.0//EN
CALSCALE:GREGORIAN
METHOD:PUBLISH
X-WR-CALNAME:Pro Agricultura
X-ORIGINAL-URL:https://falugazdasz.ro
X-WR-CALDESC:Events for Pro Agricultura
REFRESH-INTERVAL;VALUE=DURATION:PT1H
X-Robots-Tag:noindex
X-PUBLISHED-TTL:PT1H
BEGIN:VTIMEZONE
TZID:Europe/Bucharest
BEGIN:DAYLIGHT
TZOFFSETFROM:+0200
TZOFFSETTO:+0300
TZNAME:EEST
DTSTART:20220327T010000
END:DAYLIGHT
BEGIN:STANDARD
TZOFFSETFROM:+0300
TZOFFSETTO:+0200
TZNAME:EET
DTSTART:20221030T010000
END:STANDARD
END:VTIMEZONE
BEGIN:VEVENT
DTSTART;VALUE=DATE:20220615
DTEND;VALUE=DATE:20220616
DTSTAMP:20260423T083758
CREATED:20220523T101444Z
LAST-MODIFIED:20220523T101444Z
UID:2453-1655251200-1655337599@falugazdasz.ro
SUMMARY:Telihold
DESCRIPTION:
URL:https://falugazdasz.ro/esemeny/telihold-2/
CATEGORIES:Holdfázis
END:VEVENT
END:VCALENDAR