BEGIN:VCALENDAR
VERSION:2.0
PRODID:-//Pro Agricultura - ECPv5.12.0//NONSGML v1.0//EN
CALSCALE:GREGORIAN
METHOD:PUBLISH
X-WR-CALNAME:Pro Agricultura
X-ORIGINAL-URL:https://falugazdasz.ro
X-WR-CALDESC:Events for Pro Agricultura
REFRESH-INTERVAL;VALUE=DURATION:PT1H
X-Robots-Tag:noindex
X-PUBLISHED-TTL:PT1H
BEGIN:VTIMEZONE
TZID:Europe/Bucharest
BEGIN:DAYLIGHT
TZOFFSETFROM:+0200
TZOFFSETTO:+0300
TZNAME:EEST
DTSTART:20220327T010000
END:DAYLIGHT
BEGIN:STANDARD
TZOFFSETFROM:+0300
TZOFFSETTO:+0200
TZNAME:EET
DTSTART:20221030T010000
END:STANDARD
END:VTIMEZONE
BEGIN:VEVENT
DTSTART;TZID=Europe/Bucharest:20221119T080000
DTEND;TZID=Europe/Bucharest:20221120T170000
DTSTAMP:20260420T120126
CREATED:20221115T122055Z
LAST-MODIFIED:20221115T122141Z
UID:3932-1668844800-1668963600@falugazdasz.ro
SUMMARY:Bejön a vidék! - November
DESCRIPTION:Szezonális termékekkel\, megszokott és új felhozatallal (lekvárok\, szörpök\, házikenyér\, sütemények\, sajtok\, mézek\, gyümölcsök\, zöldségek és sok más érdekesség) készül a Bejön a vidék. \nIdőpont: November 19-20. \nHelyszín: Kolozsvár\, Fogoly utca (Str. Potaissa) \nReméljük\, hogy a jó idő is velünk tart! \n 
URL:https://falugazdasz.ro/esemeny/bejon-a-videk-november/
ATTACH;FMTTYPE=image/jpeg:https://falugazdasz.ro/wp-content/uploads/2022/11/315421982_1520335618485671_5983097349361756725_n.jpg
END:VEVENT
BEGIN:VEVENT
DTSTART;TZID=Europe/Bucharest:20221117T100000
DTEND;TZID=Europe/Bucharest:20221119T200000
DTSTAMP:20260420T120126
CREATED:20221114T082040Z
LAST-MODIFIED:20221114T082040Z
UID:3877-1668679200-1668888000@falugazdasz.ro
SUMMARY:Digitális Agrárakadémia Erdélyben
DESCRIPTION:Az elméleti tudás mellett a Pro Agricultura Egyesület kiemelten fontosnak tartja\, hogy az erdélyi gazdák gyakorlatias képzéseken is résztvegyenek. Ezért ismét elhoztuk az anyaországból a Digitális Agrárakadémiát\, ezúttal pedig a meghívott szakemberek a kertészet\, növénytermesztés és állattenyésztés tematikáját is érintik majd\, természetesen precíziós megoldásokkal fűszerezve. November 17-19. között összesen 6 erdélyi megyébe látogat el az esemény: \n2022. november 17.: \nKovászna megye\, Sepsikőröspatak\, Unitárius Közösségi Ház \n10:00-12:00-Kövesdi József: Digitális megoldások a modern mezőgazdaságban \nBihar megye\, Érmihályfalva\, Gizella Művelődési Központ \n10:00-12:00-Molnár Bianka: Digitális megoldások a kertészetben \nKolozs megye\, Kallos Zoltán Alapítvány\, Válaszút\, Fő utca 7. Szám \n15:00-17:00-Molnár Bianka: Digitális megoldások a kertészetben \n  \n2022. november 18.: \nHargita megye\, Székelyszentlélek\, Gordon Prod Kft. \n10:00-12:00-Kövesdi József: Digitális megoldások a modern mezőgazdaságban \nHargita megye\, Farkaslaka\, Polgármesteri Hivatal \n14:00-16:00-Molnár Bianka: Digitális megoldások a kertészetben \nKolozs megye\, Válaszút\, Kallos Zoltán Alapítvány\, Fő utca 7. Szám \n15:00-17:00-dr. Póti Péter: Precíziós juh- és kecsketenyésztés \n  \n2022. november 19.: \nMaros megye\, Nyárádszereda\, Polgármesteri Hivatal\, Bocskai István tér 54. Szám \n10:00-12:00-dr. Póti Péter: Precíziós juh- és kecsketenyésztés \nSzatmár megye\, Csanálos\, Kultúrotthon \n10:00-12:00-Kövesdi József: Digitális megoldások a modern mezőgazdaságban \nKovászna megye\, Szotyor\, Kúlturotthon \n13:00-15:00-Molnár Bianka: Digitális megoldások a kertészetben \nHargita megye\, Csíkkarcfalva\, Antal vendégház \n15:00-17:00-dr. Póti Péter: Precíziós juh- és kecsketenyésztés
URL:https://falugazdasz.ro/esemeny/digitalis-agrarakademia-erdelyben/
LOCATION:Kolozs megye\, Válaszút\, Fő utca\, 7. szám\, Románia
ATTACH;FMTTYPE=image/png:https://falugazdasz.ro/wp-content/uploads/2022/11/PM.png
END:VEVENT
BEGIN:VEVENT
DTSTART;TZID=Europe/Bucharest:20221112T160000
DTEND;TZID=Europe/Bucharest:20221112T220000
DTSTAMP:20260420T120126
CREATED:20221108T082607Z
LAST-MODIFIED:20221108T092011Z
UID:3804-1668268800-1668290400@falugazdasz.ro
SUMMARY:Regruta bál
DESCRIPTION:A Thoroczkay István Egyesület 2022. november 12-én\, az I. világháború végének emlékére\, Regruta bált szervez Inaktelkén!\n\n\n\nA helyszínen lesz koszorúzás\, toborozás\, lovas felvonulás és ezt követően pedig\, 19 órától kezdődően\, a Regruta bál.\n\n\n\nIdőpont: 2022. November 12\nHelyszín: Inaktelke\, inaktelki emlékmű művelödési ház
URL:https://falugazdasz.ro/esemeny/regruta-bal/
ATTACH;FMTTYPE=image/jpeg:https://falugazdasz.ro/wp-content/uploads/2022/11/WhatsApp-Image-2022-11-08-at-08.26.48.jpeg
END:VEVENT
BEGIN:VEVENT
DTSTART;TZID=Europe/Bucharest:20221112T090000
DTEND;TZID=Europe/Bucharest:20221112T140000
DTSTAMP:20260420T120126
CREATED:20221102T120525Z
LAST-MODIFIED:20221104T111658Z
UID:3411-1668243600-1668261600@falugazdasz.ro
SUMMARY:Kolbászkészítő csapatverseny
DESCRIPTION:2022 november 12-én\, Pusztakeresztúron\, KOLBÁSZKÉSZÍTŐ CSAPATVERSENY-t szerveznek! \nVerseny helye: Pusztakeresztúri Művelődési Központ\nVerseny célja: Hagyományaink ápolása\, népi tájjellegű kolbászkészítésnek\nfelelevenítése\, gasztronómiai kultúránk népszerűsítése \nA verseny lebonyolítása:\n2022. november 12.\, 9.00 –kor eligazítást tart a zsűri a verseny helyszínén a csapatoknak majd a sertéshús átvételére kerül sor.\nA verseny kezdete 9:30 -kor\, a verseny vége 13.00-kor lesz.\nA csapatok zsűrizése munkavégzés közben kezdődik és a kolbász minta sütését követően a kóstolással végződik.\nEredményhirdetés ideje délután 14.00 óra \nA rendező bizottság a következőket biztosítja:\n10 kg sertéshús\, sertés vékonybél (20 méter\, csak a rendező bizottságtól kapott sertésbelet lehet használni) díjmentesen.\nVersenyben részvevő csapatoknak 1 darab 15 cm-es kolbászt kell leadni a zsűrizéshez 13.00 –ig.\n1 méter kolbászt a sütésre és kóstoltatásra kell leadni. A többi kolbász a csapat tulajdonát képezi és elszállításáról gondoskodnia kell!\n1 db nagy sörasztalt\, székeket\nMunkaterületen\, hulladéktároló zsákokat \nA résztvevőknek maguknak kell biztosítani:\n– a szükséges járulékos nyersanyagot\, fűszereket\,\n– az előkészítéshez\, az elkészítéshez\, a tálaláshoz és kóstoláshoz szükséges eszközöket\, felszerelési tárgyakat; (kések\, műanyag vágódeszka\, segédeszközök\, stb.)\n– higiéniai feltételként kézmosáshoz kézfertőtlenítő folyadék;\n– a húsfeldolgozáshoz megfelelő ruházat\, használata kötelező; \nA verseny értékelése:\nMegjelenés\, a ruházat és munkavégzés higiéniája\, kolbászkészítés folyamatát.\nTálalás esztétikuma\, hagyományos disznótoros asztalterítés az elfogadható.\nAzonos körülmények között megsütött paprikás kolbász ízét\, állagát\, illatát\, színét.\nAmennyiben a versenyző csapat eltér az eredeti kiírástól\, úgy a zsűri a csapat teljesítményét bemutató jelleggel értékeli. \nDíjazás:\nI. helyezett csapat serleg + oklevél + ajándék\nII. helyezett csapat serleg + oklevél + ajándék\nIII: helyezett csapat serleg + oklevél + ajándék\nA zsűri döntése alapján különdíjakat adhat.\nMinden csapat oklevelet kap. \nIgény esetén szállást is biztosítanak Nagyszentmiklóson november 11. illetve/vagy 12.-én. \nA szervezés és szállásfoglalások ügyintézése érdekében részvételi szándékukat 2022. november 4 déli 12.00 óráig(péntek) jelezzék vissza a lenti elérhetőségeken. \nKözponti iroda e-mail: bmgve@yahoo.com\nBenkő Zsolt\, elnök: bstzsolt@gmail.com vagy benko@banatgazda.ro\,\nTel: +40722964799 \nVegyék figyelembe a romániai időzónát! (GMT+2)
URL:https://falugazdasz.ro/esemeny/kolbaszkeszito-csapatverseny/
ATTACH;FMTTYPE=image/jpeg:https://falugazdasz.ro/wp-content/uploads/2022/11/fullsizerender_1_2.jpg
END:VEVENT
BEGIN:VEVENT
DTSTART;TZID=Europe/Bucharest:20221015T100000
DTEND;TZID=Europe/Bucharest:20221016T190000
DTSTAMP:20260420T120126
CREATED:20221012T113905Z
LAST-MODIFIED:20221019T090640Z
UID:2896-1665828000-1665946800@falugazdasz.ro
SUMMARY:Bejön a vidék vásár - Október
DESCRIPTION:  \nHétvégén újra bejön a vidék! \nAz eseményen lesznek lekvárok\, szörpök\, házikenyér\, sütemények\, sajtok\, mézek\, gyümölcsök\, zöldségek és sok más érdekesség! \nHelyszín: Kolozsvár\, Magyar u.\, 78 szám. \nIdőpont: Október 15.\, 10:00-Október 16.\, 19:00 \nAz eseményt Filep Sándor falugazdászunk közreműködésével szervezi a Bejön a vidék – Helyi termékek boltja! \nAz erdélyi gazdák boldogulását a magyar kormány Agrárminisztériuma által támogatott Kárpát-medencei falugazdász-hálózat segíti.
URL:https://falugazdasz.ro/esemeny/bejon-a-videk-vasar-oktober/
LOCATION:Kolozsvár\, Magyar utca\, 78 szám\, Magyar u.\, 78 szám\, Kolozsvár
ATTACH;FMTTYPE=image/jpeg:https://falugazdasz.ro/wp-content/uploads/2022/10/46507243_356679821571454_7614277086462607360_n.jpg
END:VEVENT
BEGIN:VEVENT
DTSTART;TZID=Europe/Bucharest:20220821T090000
DTEND;TZID=Europe/Bucharest:20220821T150000
DTSTAMP:20260420T120126
CREATED:20220802T130644Z
LAST-MODIFIED:20220802T130644Z
UID:2742-1661072400-1661094000@falugazdasz.ro
SUMMARY:Kolozsvári Magyar Napok-Örömfőzés
DESCRIPTION:A Kolozsvári Magyar Napok 13 éves hagyományának megfelelően idén is szeretettel várjuk a sütni-főzni szeretőket – munkaközösségeket\, baráti társaságokat\, profi és amatőr szakácsokat – a 13. KMN örömfőzésére augusztus 21-én\, vasárnap 9 órától\, a törökvágási Falumúzeum (Romulus Vuia Nemzeti Etnográfiai Park) területén.
URL:https://falugazdasz.ro/esemeny/kolozsvari-magyar-napok-oromfozes/
LOCATION:Parcul Etnografic \,\,Romulus Voia”\, Aleea Muzeului Etnografic\, Kolozsvár\, Kolozs\, 400535\, Romania
ORGANIZER;CN="Kolozsv%C3%A1ri%20Magyar%20Napok":MAILTO:-
END:VEVENT
BEGIN:VEVENT
DTSTART;TZID=Europe/Bucharest:20220820T120000
DTEND;TZID=Europe/Bucharest:20220820T123000
DTSTAMP:20260420T120126
CREATED:20220810T104416Z
LAST-MODIFIED:20220810T104416Z
UID:2753-1660996800-1660998600@falugazdasz.ro
SUMMARY:Újkenyér megáldás
DESCRIPTION:🌾A Pro Agricultura Egyesület\, partnerségben a Kolozs megyei Magyar Gazdák Egyesületével csatlakozik a Magyarok Kenyere – 15 millió́ búzaszem programhoz\, amelynek eredménye a magyar gazdatársadalom önzetlen\, segítő̋ szándékú́ összefogása. 🇭🇺\n🥖Az új kenyér megáldásának ökumenikus ünnepsége\, 2022. augusztus 20-án\, a déli harangszót követően kerül sor Kolozsváron\, a főtéri Szent Mihály templomban.⛪
URL:https://falugazdasz.ro/esemeny/ujkenyer-megaldas/
ATTACH;FMTTYPE=image/jpeg:https://falugazdasz.ro/wp-content/uploads/2022/08/WhatsApp-Image-2022-08-10-at-13.20.39.jpeg
ORGANIZER;CN="Pro%20Agricultura":MAILTO:-
END:VEVENT
BEGIN:VEVENT
DTSTART;VALUE=DATE:20220615
DTEND;VALUE=DATE:20220616
DTSTAMP:20260420T120126
CREATED:20220523T101444Z
LAST-MODIFIED:20220523T101444Z
UID:2453-1655251200-1655337599@falugazdasz.ro
SUMMARY:Telihold
DESCRIPTION:
URL:https://falugazdasz.ro/esemeny/telihold-2/
CATEGORIES:Holdfázis
END:VEVENT
BEGIN:VEVENT
DTSTART;VALUE=DATE:20220524
DTEND;VALUE=DATE:20220527
DTSTAMP:20260420T120126
CREATED:20220524T081712Z
LAST-MODIFIED:20220524T081712Z
UID:2478-1653350400-1653609599@falugazdasz.ro
SUMMARY:Kondas
DESCRIPTION:Ezen a napon mennek ki a kondasok
URL:https://falugazdasz.ro/esemeny/kondas/
END:VEVENT
BEGIN:VEVENT
DTSTART;VALUE=DATE:20220401
DTEND;VALUE=DATE:20220402
DTSTAMP:20260420T120126
CREATED:20220301T072055Z
LAST-MODIFIED:20220301T072113Z
UID:1390-1648771200-1648857599@falugazdasz.ro
SUMMARY:Újhold
DESCRIPTION:
URL:https://falugazdasz.ro/esemeny/ujhold-2/
CATEGORIES:Holdfázis
END:VEVENT
BEGIN:VEVENT
DTSTART;VALUE=DATE:20220325
DTEND;VALUE=DATE:20220326
DTSTAMP:20260420T120126
CREATED:20220301T072027Z
LAST-MODIFIED:20220301T072027Z
UID:1388-1648166400-1648252799@falugazdasz.ro
SUMMARY:Utolsó negyed
DESCRIPTION:
URL:https://falugazdasz.ro/esemeny/utolso-negyed/
CATEGORIES:Holdfázis
END:VEVENT
BEGIN:VEVENT
DTSTART;VALUE=DATE:20220318
DTEND;VALUE=DATE:20220319
DTSTAMP:20260420T120126
CREATED:20220301T071952Z
LAST-MODIFIED:20220301T071952Z
UID:1386-1647561600-1647647999@falugazdasz.ro
SUMMARY:Telihold
DESCRIPTION:
URL:https://falugazdasz.ro/esemeny/telihold/
CATEGORIES:Holdfázis
END:VEVENT
BEGIN:VEVENT
DTSTART;VALUE=DATE:20220310
DTEND;VALUE=DATE:20220311
DTSTAMP:20260420T120126
CREATED:20220301T071919Z
LAST-MODIFIED:20220301T071919Z
UID:1384-1646870400-1646956799@falugazdasz.ro
SUMMARY:Első negyed
DESCRIPTION:
URL:https://falugazdasz.ro/esemeny/elso-negyed-2/
END:VEVENT
BEGIN:VEVENT
DTSTART;VALUE=DATE:20220302
DTEND;VALUE=DATE:20220303
DTSTAMP:20260420T120126
CREATED:20220301T071850Z
LAST-MODIFIED:20220301T071850Z
UID:1382-1646179200-1646265599@falugazdasz.ro
SUMMARY:Újhold
DESCRIPTION:
URL:https://falugazdasz.ro/esemeny/ujhold/
END:VEVENT
BEGIN:VEVENT
DTSTART;TZID=Europe/Bucharest:20220228T100000
DTEND;TZID=Europe/Bucharest:20220228T190000
DTSTAMP:20260420T120126
CREATED:20220228T161644Z
LAST-MODIFIED:20220228T170212Z
UID:1161-1646042400-1646074800@falugazdasz.ro
SUMMARY:Első negyed
DESCRIPTION:Első negyed
URL:https://falugazdasz.ro/esemeny/elso-negyed/
CATEGORIES:Holdfázis
END:VEVENT
END:VCALENDAR