BEGIN:VCALENDAR
VERSION:2.0
PRODID:-//Pro Agricultura - ECPv5.12.0//NONSGML v1.0//EN
CALSCALE:GREGORIAN
METHOD:PUBLISH
X-WR-CALNAME:Pro Agricultura
X-ORIGINAL-URL:https://falugazdasz.ro
X-WR-CALDESC:Events for Pro Agricultura
REFRESH-INTERVAL;VALUE=DURATION:PT1H
X-Robots-Tag:noindex
X-PUBLISHED-TTL:PT1H
BEGIN:VTIMEZONE
TZID:Europe/Bucharest
BEGIN:DAYLIGHT
TZOFFSETFROM:+0200
TZOFFSETTO:+0300
TZNAME:EEST
DTSTART:20220327T010000
END:DAYLIGHT
BEGIN:STANDARD
TZOFFSETFROM:+0300
TZOFFSETTO:+0200
TZNAME:EET
DTSTART:20221030T010000
END:STANDARD
END:VTIMEZONE
BEGIN:VEVENT
DTSTART;TZID=Europe/Bucharest:20221015T100000
DTEND;TZID=Europe/Bucharest:20221016T190000
DTSTAMP:20260420T163734
CREATED:20221012T113905Z
LAST-MODIFIED:20221019T090640Z
UID:2896-1665828000-1665946800@falugazdasz.ro
SUMMARY:Bejön a vidék vásár - Október
DESCRIPTION:  \nHétvégén újra bejön a vidék! \nAz eseményen lesznek lekvárok\, szörpök\, házikenyér\, sütemények\, sajtok\, mézek\, gyümölcsök\, zöldségek és sok más érdekesség! \nHelyszín: Kolozsvár\, Magyar u.\, 78 szám. \nIdőpont: Október 15.\, 10:00-Október 16.\, 19:00 \nAz eseményt Filep Sándor falugazdászunk közreműködésével szervezi a Bejön a vidék – Helyi termékek boltja! \nAz erdélyi gazdák boldogulását a magyar kormány Agrárminisztériuma által támogatott Kárpát-medencei falugazdász-hálózat segíti.
URL:https://falugazdasz.ro/esemeny/bejon-a-videk-vasar-oktober/
LOCATION:Kolozsvár\, Magyar utca\, 78 szám\, Magyar u.\, 78 szám\, Kolozsvár
ATTACH;FMTTYPE=image/jpeg:https://falugazdasz.ro/wp-content/uploads/2022/10/46507243_356679821571454_7614277086462607360_n.jpg
END:VEVENT
END:VCALENDAR