BEGIN:VCALENDAR
VERSION:2.0
PRODID:-//Pro Agricultura - ECPv5.12.0//NONSGML v1.0//EN
CALSCALE:GREGORIAN
METHOD:PUBLISH
X-WR-CALNAME:Pro Agricultura
X-ORIGINAL-URL:https://falugazdasz.ro
X-WR-CALDESC:Events for Pro Agricultura
REFRESH-INTERVAL;VALUE=DURATION:PT1H
X-Robots-Tag:noindex
X-PUBLISHED-TTL:PT1H
BEGIN:VTIMEZONE
TZID:Europe/Bucharest
BEGIN:DAYLIGHT
TZOFFSETFROM:+0200
TZOFFSETTO:+0300
TZNAME:EEST
DTSTART:20220327T010000
END:DAYLIGHT
BEGIN:STANDARD
TZOFFSETFROM:+0300
TZOFFSETTO:+0200
TZNAME:EET
DTSTART:20221030T010000
END:STANDARD
END:VTIMEZONE
BEGIN:VEVENT
DTSTART;TZID=Europe/Bucharest:20221119T080000
DTEND;TZID=Europe/Bucharest:20221120T170000
DTSTAMP:20260420T163819
CREATED:20221115T122055Z
LAST-MODIFIED:20221115T122141Z
UID:3932-1668844800-1668963600@falugazdasz.ro
SUMMARY:Bejön a vidék! - November
DESCRIPTION:Szezonális termékekkel\, megszokott és új felhozatallal (lekvárok\, szörpök\, házikenyér\, sütemények\, sajtok\, mézek\, gyümölcsök\, zöldségek és sok más érdekesség) készül a Bejön a vidék. \nIdőpont: November 19-20. \nHelyszín: Kolozsvár\, Fogoly utca (Str. Potaissa) \nReméljük\, hogy a jó idő is velünk tart! \n 
URL:https://falugazdasz.ro/esemeny/bejon-a-videk-november/
ATTACH;FMTTYPE=image/jpeg:https://falugazdasz.ro/wp-content/uploads/2022/11/315421982_1520335618485671_5983097349361756725_n.jpg
END:VEVENT
END:VCALENDAR