BEGIN:VCALENDAR
VERSION:2.0
PRODID:-//Pro Agricultura - ECPv5.12.0//NONSGML v1.0//EN
CALSCALE:GREGORIAN
METHOD:PUBLISH
X-WR-CALNAME:Pro Agricultura
X-ORIGINAL-URL:https://falugazdasz.ro
X-WR-CALDESC:Events for Pro Agricultura
REFRESH-INTERVAL;VALUE=DURATION:PT1H
X-Robots-Tag:noindex
X-PUBLISHED-TTL:PT1H
BEGIN:VTIMEZONE
TZID:Europe/Bucharest
BEGIN:DAYLIGHT
TZOFFSETFROM:+0200
TZOFFSETTO:+0300
TZNAME:EEST
DTSTART:20220327T010000
END:DAYLIGHT
BEGIN:STANDARD
TZOFFSETFROM:+0300
TZOFFSETTO:+0200
TZNAME:EET
DTSTART:20221030T010000
END:STANDARD
END:VTIMEZONE
BEGIN:VEVENT
DTSTART;TZID=Europe/Bucharest:20220820T120000
DTEND;TZID=Europe/Bucharest:20220820T123000
DTSTAMP:20260420T163815
CREATED:20220810T104416Z
LAST-MODIFIED:20220810T104416Z
UID:2753-1660996800-1660998600@falugazdasz.ro
SUMMARY:Újkenyér megáldás
DESCRIPTION:🌾A Pro Agricultura Egyesület\, partnerségben a Kolozs megyei Magyar Gazdák Egyesületével csatlakozik a Magyarok Kenyere – 15 millió́ búzaszem programhoz\, amelynek eredménye a magyar gazdatársadalom önzetlen\, segítő̋ szándékú́ összefogása. 🇭🇺\n🥖Az új kenyér megáldásának ökumenikus ünnepsége\, 2022. augusztus 20-án\, a déli harangszót követően kerül sor Kolozsváron\, a főtéri Szent Mihály templomban.⛪
URL:https://falugazdasz.ro/esemeny/ujkenyer-megaldas/
ATTACH;FMTTYPE=image/jpeg:https://falugazdasz.ro/wp-content/uploads/2022/08/WhatsApp-Image-2022-08-10-at-13.20.39.jpeg
ORGANIZER;CN="Pro%20Agricultura":MAILTO:-
END:VEVENT
END:VCALENDAR